BEGIN:VCALENDAR
VERSION:2.0
PRODID:-//Eventin//Event Calendar//EN
CALSCALE:GREGORIAN
METHOD:PUBLISH
BEGIN:VEVENT
UID:32fee321329b5f2c166f5a8e602741a5@team-prrc.com
SUMMARY:TEAM-PRRC ANNUAL SUMMIT 2026 PRAGUE - PUBLIC
DESCRIPTION:Join the TEAM-PRRC Annual Summit 2026 in Prague\, the key Europ
 ean event dedicated to PRRCs (Persons Responsible for Regulatory Compliance
 ) and regulatory affairs professionals in the medical device sector.\nThis 
 exclusive two-day event offers a unique opportunity to:\n\ngain insights fr
 om high-level experts and authorities\,\nexchange on the latest regulatory 
 developments\,\nand connect with peers across the MedTech community\n\nDesi
 gned for meaningful interactions and high-value networking\, participation 
 is limited to 100 attendees.Secure your place and be part of the PRRC commu
 nity shaping the future of regulatorycompliance.\nREGISTER as a member: Ear
 ly-bird fee until 31 August 2026 : 500 €\, then it will be 600 €until 1
 5 October 2026.\nAs a non-member: Early-bird fee until 31 August 2026 is 70
 0 €\, then it will be 800 € until 15 October 2026.\nBOOK YOUR ROOM here
  at HILTON HOTEL Prague Old Town : TEAM-PRRC ANNUAL SUMMIT 2026 PRAGUE\nAf
 ter opening the booking page\, click on “Book a Room”.\nHere is a guide
  to help you book your room : https://team-prrc.com/wp-content/uploads/202
 6/04/Hotel-Prague-Help.pdf
LOCATION:Prague
DTSTAMP:20260424T140833Z
DTSTART:20261029T070000Z
DTEND:20261030T160000Z
END:VEVENT
END:VCALENDAR
